BEGIN:VCALENDAR
VERSION:2.0
PRODID:-//TYPO3/NONSGML News system (news)//EN
BEGIN:VEVENT
UID:news-20248@sport.belfort.fr
DTSTAMP:20260330T103740
DTSTART:20260530T203000
DTEND:20260530T220000
SUMMARY:HANDBALL - BAUHB contre TORCY le samedi 30 mai 2026.
CATEGORIES:
DESCRIPTION:
END:VEVENT
END:VCALENDAR