BEGIN:VCALENDAR
VERSION:2.0
PRODID:-//TYPO3/NONSGML News system (news)//EN
BEGIN:VEVENT
UID:news-20251@sport.belfort.fr
DTSTAMP:20260408T145132
DTSTART:20260620T140000
DTEND:20260620T200000
SUMMARY:BELFORT GYMNASTIQUE - Gala de gymnastique le samedi 20 juin 2026.
CATEGORIES:
DESCRIPTION:
END:VEVENT
END:VCALENDAR