BEGIN:VCALENDAR
VERSION:2.0
PRODID:-//TYPO3/NONSGML News system (news)//EN
BEGIN:VEVENT
UID:news-20245@sport.belfort.fr
DTSTAMP:20260327T171718
DTSTART:20260530T000000
DTEND:20260530T000000
SUMMARY:BELFORT ATHLE - Meeting d'athlétisme Gérard Meslot le samedi 30 mai 2026.
CATEGORIES:
DESCRIPTION:
END:VEVENT
END:VCALENDAR