BEGIN:VCALENDAR
VERSION:2.0
PRODID:-//TYPO3/NONSGML News system (news)//EN
BEGIN:VEVENT
UID:news-20250@sport.belfort.fr
DTSTAMP:20260330T112031
DTSTART:20260613T000000
DTEND:20260613T000000
SUMMARY:ASMB PATINAGE ARTISTIQUE - Gala artistique le samedi 13 juin 2026.
CATEGORIES:
DESCRIPTION:
END:VEVENT
END:VCALENDAR