BEGIN:VCALENDAR
VERSION:2.0
PRODID:-//TYPO3/NONSGML News system (news)//EN
BEGIN:VEVENT
UID:news-20249@sport.belfort.fr
DTSTAMP:20260330T110230
DTSTART:20260605T000000
DTEND:20260606T000000
SUMMARY:ASMB DANSE ET BALLET SUR GLACE - Gala de danse sur glace et de ballet les vendredi 05 et samedi 06 juin 2026.
CATEGORIES:
DESCRIPTION:Gala de Danse et ballet sur glace Monopol'Ice le vendredi 05 
 juin à 20h30 et le samedi 06 juin à 14h et à 
 20h. Renseignements : 06 07 44 98 82
END:VEVENT
END:VCALENDAR